BEGIN:VCALENDAR
VERSION:2.0
PRODID:-//#CMC_Meetup コミュニティマーケティングのコミュニティ - ECPv5.14.0.3//NONSGML v1.0//EN
CALSCALE:GREGORIAN
METHOD:PUBLISH
X-WR-CALNAME:#CMC_Meetup コミュニティマーケティングのコミュニティ
X-ORIGINAL-URL:https://cmcmeetup.com
X-WR-CALDESC:#CMC_Meetup コミュニティマーケティングのコミュニティ のイベント
REFRESH-INTERVAL;VALUE=DURATION:PT1H
X-Robots-Tag:noindex
X-PUBLISHED-TTL:PT1H
BEGIN:VTIMEZONE
TZID:Asia/Tokyo
BEGIN:STANDARD
TZOFFSETFROM:+0900
TZOFFSETTO:+0900
TZNAME:JST
DTSTART:20240101T000000
END:STANDARD
END:VTIMEZONE
BEGIN:VEVENT
DTSTART;TZID=Asia/Tokyo:20250702T190000
DTEND;TZID=Asia/Tokyo:20250702T210000
DTSTAMP:20260425T201423
CREATED:20250825T001842Z
LAST-MODIFIED:20250825T001842Z
UID:3047-1751482800-1751490000@cmcmeetup.com
SUMMARY:CMC_Meetup Nagoya Vol.11
DESCRIPTION:
URL:https://cmcmeetup.com/events/cmc_meetup-nagoya-vol-11/
LOCATION:コラボベースNAGOYA
CATEGORIES:CMC_Meetup
END:VEVENT
BEGIN:VEVENT
DTSTART;TZID=Asia/Tokyo:20250621T150000
DTEND;TZID=Asia/Tokyo:20250621T173000
DTSTAMP:20260425T201423
CREATED:20250825T001750Z
LAST-MODIFIED:20250825T001750Z
UID:3045-1750518000-1750527000@cmcmeetup.com
SUMMARY:CMC_Meetup HIROSHIMA Vol.5
DESCRIPTION:
URL:https://cmcmeetup.com/events/cmc_meetup-hiroshima-vol-5/
LOCATION:イノベーション・ハブ・ひろしまCamps\, 広島県 広島市中区紙屋町 1-4-3
CATEGORIES:CMC_Meetup
END:VEVENT
BEGIN:VEVENT
DTSTART;TZID=Asia/Tokyo:20250530T190000
DTEND;TZID=Asia/Tokyo:20250530T203000
DTSTAMP:20260425T201423
CREATED:20250417T013229Z
LAST-MODIFIED:20250417T013229Z
UID:3027-1748631600-1748637000@cmcmeetup.com
SUMMARY:CMC_Meetup 札幌 Vol.6
DESCRIPTION:
URL:https://cmcmeetup.com/events/cmc_meetup-%e6%9c%ad%e5%b9%8c-vol-6/
LOCATION:社交場 ヤング
CATEGORIES:CMC_Meetup
END:VEVENT
BEGIN:VEVENT
DTSTART;TZID=Asia/Tokyo:20250422T190000
DTEND;TZID=Asia/Tokyo:20250422T220000
DTSTAMP:20260425T201423
CREATED:20250404T063859Z
LAST-MODIFIED:20250404T063859Z
UID:3021-1745348400-1745359200@cmcmeetup.com
SUMMARY:CMC_Meetup Tokyo Vol.35
DESCRIPTION:コミュニティ立ち上げ期の悩みに打ち勝つ コミュニティの進め方\n今回のCMC_Meetup Vol.35では、コミュニティ立ち上げ期に多く出てくる悩みに打ち勝つための公開壁打ち回を開催します。 \n・コミュニティをやることは決まった、でも何やるの？\n・リーダーはいる（と思っている）けど、どうやってオファーするといいの？\n・コミュニティで事業への説明はどうする？\n・KPIの設定は？ \nなどなど誰しもぶつかる悩み・課題を皆さんで持ち寄って、成功例・失敗例など学びを共有し合う場を作っていきたいと思います。 \nコミュニティマネージャー・リーダーの皆さんの頭の中でも意外とこんなこと思っていませんか？こういった課題に向き合い、進めていくコミュニティ運営。どのように付き合っていくと良いかを考えてみます。 \nこれからコミュニティをはじめる人だけではなく、すでにコミュニティを運営していて課題を感じていたり、ステージの変わり目で見直しを検討している人にもおすすめです。
URL:https://cmcmeetup.com/events/cmc_meetup-tokyo-vol-35/
LOCATION:ウイングアーク１ｓｔ株式会社\, 六本木 3-2-1 六本木グランドタワー 36F\, 港区\, 106-0032\, 日本
CATEGORIES:CMC_Meetup
END:VEVENT
BEGIN:VEVENT
DTSTART;TZID=Asia/Tokyo:20250419T150000
DTEND;TZID=Asia/Tokyo:20250419T173000
DTSTAMP:20260425T201423
CREATED:20250404T063732Z
LAST-MODIFIED:20250404T063732Z
UID:3018-1745074800-1745083800@cmcmeetup.com
SUMMARY:CMC_Meetup 仙台 vol.3
DESCRIPTION:ヒトが集まる、もっと好きになる、もっと広がるマーケティングを考える〜コミュニティマーケティングの始め方〜\nコミュニティを通じたマーケティングを考えるコミュニティ：CMC_Meetup 仙台3回目の開催です！ \n第3回目のCMC_Meetup仙台は「ファンが集まる、もっと好きになる、もっと広がるマーケティングを考える〜コミュニティマーケティングの始め方〜」がテーマです。\n顧客に愛されるプロダクトがある、結構リピートしてくれている人もいる、それでももっと大きくしていくためにはどうしたら、と悩んでいらっしゃる方もいるのではないでしょうか。\n今回は、\n・「よなよなエール」などクラフトビールで有名なヤッホーブルーイング様\n・宮城県山元町を拠点に活動し、「食べる宝石」と言われるイチゴブランド「ミガキイチゴ」を展開しているGRA様\nにお越しいただき、コミュニティを通じたマーケティングについてお話しいただきます。 \nそれぞれの業種業態によって目的や方法が変わるコミュニティ。 \nコミュニティを立ち上げて運営をはじめたとき、運営していく中でも様々な場面で乗り越えていくべき課題があります。コミュニティの活用方法の成功・失敗など包み隠さず話をしていただきますので、自分たちが運営するならどんなコミュニティが良さそうか？のヒントを見つけてみてください。 \nコミュニティはあるけど、マーケティングに活かすには？\nコミュニティをこれから作りたい！\nいま施策として行なっていることをより効果的に行うためにはどうしたら！？\nなどなど考えていらっしゃる方におすすめです。
URL:https://cmcmeetup.com/events/cmc_meetup-%e4%bb%99%e5%8f%b0-vol-3/
LOCATION:クラスメソッド オフィス内会議室
CATEGORIES:CMC_Meetup
END:VEVENT
BEGIN:VEVENT
DTSTART;TZID=Asia/Tokyo:20250319T190000
DTEND;TZID=Asia/Tokyo:20250319T210000
DTSTAMP:20260425T201423
CREATED:20250220T020802Z
LAST-MODIFIED:20250220T020802Z
UID:3007-1742410800-1742418000@cmcmeetup.com
SUMMARY:CMC_Meetup 沖縄 vol.3
DESCRIPTION:
URL:https://cmcmeetup.com/events/cmc_oka3/
LOCATION:Lagoon KOZA\, 沖縄県 沖縄市中央 1丁目7-8
CATEGORIES:CMC_Meetup
END:VEVENT
BEGIN:VEVENT
DTSTART;TZID=Asia/Tokyo:20250315T150000
DTEND;TZID=Asia/Tokyo:20250315T180000
DTSTAMP:20260425T201423
CREATED:20250220T020555Z
LAST-MODIFIED:20250220T020555Z
UID:3004-1742050800-1742061600@cmcmeetup.com
SUMMARY:CMC_Meetup HIROSHIMA Vol.4
DESCRIPTION:
URL:https://cmcmeetup.com/events/cmc_hij4_re/
LOCATION:イノベーション・ハブ・ひろしまCamps\, 広島県 広島市中区紙屋町 1-4-3
CATEGORIES:CMC_Meetup
END:VEVENT
BEGIN:VEVENT
DTSTART;TZID=Asia/Tokyo:20250301T163000
DTEND;TZID=Asia/Tokyo:20250301T190000
DTSTAMP:20260425T201423
CREATED:20250220T020300Z
LAST-MODIFIED:20250220T020421Z
UID:3001-1740846600-1740855600@cmcmeetup.com
SUMMARY:CMC_Meetup 高知 vol.7
DESCRIPTION:
URL:https://cmcmeetup.com/events/cmc_meetup-%e9%ab%98%e7%9f%a5-vol-7/
LOCATION:高知共催会館『藤』\, 高知県 高知市本町 5丁目3-20\, 日本
CATEGORIES:CMC_Meetup
END:VEVENT
BEGIN:VEVENT
DTSTART;TZID=Asia/Tokyo:20250219T190000
DTEND;TZID=Asia/Tokyo:20250219T210000
DTSTAMP:20260425T201423
CREATED:20250220T020123Z
LAST-MODIFIED:20250220T020123Z
UID:2999-1739991600-1739998800@cmcmeetup.com
SUMMARY:CMC_Meetup 福岡 Vol.11
DESCRIPTION:
URL:https://cmcmeetup.com/events/cmc_meetup-%e7%a6%8f%e5%b2%a1-vol-11/
LOCATION:大阪府
CATEGORIES:CMC_Meetup
END:VEVENT
BEGIN:VEVENT
DTSTART;TZID=Asia/Tokyo:20250215T180000
DTEND;TZID=Asia/Tokyo:20250215T210000
DTSTAMP:20260425T201423
CREATED:20250220T020043Z
LAST-MODIFIED:20250220T020043Z
UID:2997-1739642400-1739653200@cmcmeetup.com
SUMMARY:CMC_Meetup Vol.34 貸切屋形船でコミュニティマーケティングを語る夜
DESCRIPTION:
URL:https://cmcmeetup.com/events/cmc_meetup-vol-34-%e8%b2%b8%e5%88%87%e5%b1%8b%e5%bd%a2%e8%88%b9%e3%81%a7%e3%82%b3%e3%83%9f%e3%83%a5%e3%83%8b%e3%83%86%e3%82%a3%e3%83%9e%e3%83%bc%e3%82%b1%e3%83%86%e3%82%a3%e3%83%b3%e3%82%b0%e3%82%92/
LOCATION:大阪府
CATEGORIES:CMC_Meetup
END:VEVENT
BEGIN:VEVENT
DTSTART;TZID=Asia/Tokyo:20241211T190000
DTEND;TZID=Asia/Tokyo:20241211T210000
DTSTAMP:20260425T201423
CREATED:20241119T100213Z
LAST-MODIFIED:20241119T100213Z
UID:2994-1733943600-1733950800@cmcmeetup.com
SUMMARY:CMC_Meetup Nagoya Vol.9
DESCRIPTION:
URL:https://cmcmeetup.com/events/cmc_meetup-nagoya-vol-9/
LOCATION:大阪府
CATEGORIES:CMC_Meetup
END:VEVENT
BEGIN:VEVENT
DTSTART;TZID=Asia/Tokyo:20241122T190000
DTEND;TZID=Asia/Tokyo:20241122T210000
DTSTAMP:20260425T201423
CREATED:20241119T100133Z
LAST-MODIFIED:20241119T100133Z
UID:2992-1732302000-1732309200@cmcmeetup.com
SUMMARY:CMC_Meetup Tokyo Vol.33
DESCRIPTION:
URL:https://cmcmeetup.com/events/cmc_meetup-tokyo-vol-33/
LOCATION:ウイングアーク１ｓｔ株式会社\, 六本木 3-2-1 六本木グランドタワー 36F\, 港区\, 106-0032\, 日本
CATEGORIES:CMC_Meetup
END:VEVENT
BEGIN:VEVENT
DTSTART;TZID=Asia/Tokyo:20241109T150000
DTEND;TZID=Asia/Tokyo:20241109T173000
DTSTAMP:20260425T201423
CREATED:20241119T100046Z
LAST-MODIFIED:20241119T100046Z
UID:2990-1731164400-1731173400@cmcmeetup.com
SUMMARY:CMC_Meetup 仙台 vol.2
DESCRIPTION:
URL:https://cmcmeetup.com/events/cmc_meetup-%e4%bb%99%e5%8f%b0-vol-2/
LOCATION:大阪府
CATEGORIES:CMC_Meetup
END:VEVENT
BEGIN:VEVENT
DTSTART;TZID=Asia/Tokyo:20241029T190000
DTEND;TZID=Asia/Tokyo:20241029T210000
DTSTAMP:20260425T201423
CREATED:20241119T100000Z
LAST-MODIFIED:20241119T100000Z
UID:2988-1730228400-1730235600@cmcmeetup.com
SUMMARY:CMC_Meetup 大阪 Vol.7
DESCRIPTION:
URL:https://cmcmeetup.com/events/cmc_meetup-%e5%a4%a7%e9%98%aa-vol-7/
LOCATION:大阪府
CATEGORIES:CMC_Meetup
END:VEVENT
BEGIN:VEVENT
DTSTART;TZID=Asia/Tokyo:20240904T190000
DTEND;TZID=Asia/Tokyo:20240904T210000
DTSTAMP:20260425T201423
CREATED:20240806T061832Z
LAST-MODIFIED:20240806T061832Z
UID:2984-1725476400-1725483600@cmcmeetup.com
SUMMARY:CMC_Meetup Nagoya Vol.8
DESCRIPTION:
URL:https://cmcmeetup.com/events/cmc_meetup-nagoya-vol-8/
LOCATION:大阪府
CATEGORIES:CMC_Meetup
END:VEVENT
BEGIN:VEVENT
DTSTART;TZID=Asia/Tokyo:20240831T150000
DTEND;TZID=Asia/Tokyo:20240831T180000
DTSTAMP:20260425T201423
CREATED:20240625T105814Z
LAST-MODIFIED:20240803T032230Z
UID:2958-1725116400-1725127200@cmcmeetup.com
SUMMARY:CMC_Meetup HIROSHIMA vol.4
DESCRIPTION:
URL:https://cmcmeetup.com/events/cmc_meetup-hiroshima-vol-4/
LOCATION:大阪府
CATEGORIES:CMC_Meetup
END:VEVENT
BEGIN:VEVENT
DTSTART;TZID=Asia/Tokyo:20240806T190000
DTEND;TZID=Asia/Tokyo:20240806T210000
DTSTAMP:20260425T201423
CREATED:20240625T105710Z
LAST-MODIFIED:20240803T032320Z
UID:2954-1722970800-1722978000@cmcmeetup.com
SUMMARY:CMC_Meetup Tokyo vol.32 改めて考える「D2C/B2C」のコミュニティマーケティングの始め方
DESCRIPTION:
URL:https://cmcmeetup.com/events/cmc_meetup-tokyo-vol-32/
LOCATION:ウイングアーク１ｓｔ株式会社\, 六本木 3-2-1 六本木グランドタワー 36F\, 港区\, 106-0032\, 日本
CATEGORIES:CMC_Meetup
END:VEVENT
END:VCALENDAR